BEGIN:VCALENDAR
VERSION:2.0
PRODID:-//ChamberMaster//Event Calendar 2.0//EN
METHOD:PUBLISH
X-PUBLISHED-TTL:P3D
REFRESH-INTERVAL:P3D
CALSCALE:GREGORIAN
BEGIN:VEVENT
DTSTART:20241204T170000Z
DTEND:20241204T180000Z
X-MICROSOFT-CDO-ALLDAYEVENT:FALSE
SUMMARY:TOC Special Events Committee Meeting at Accurate Employer Solutions
DESCRIPTION:Come join us at the special events committee as we plan the 2025 Taste of Carrollwood!
X-ALT-DESC;FMTTYPE=text/html:<span style="font-family:arial\;"><span style="font-size:18px\;"><font color="#242424">Come join us at the special events committee as we plan the 2025 Taste of Carrollwood!</font></span></span>
LOCATION:Accurate Employer Solutions 14499 N. Dale Mabry Hwy. #250 Tampa\, FL 33618
UID:e.9368.790090
SEQUENCE:3
DTSTAMP:20260421T035513Z
URL:http://usecabafl.memberzone.com/events/details/toc-special-events-committee-meeting-at-accurate-employer-solutions-790090
END:VEVENT

END:VCALENDAR
