BEGIN:VCALENDAR
VERSION:2.0
PRODID:-//ChamberMaster//Event Calendar 2.0//EN
METHOD:PUBLISH
X-PUBLISHED-TTL:P3D
REFRESH-INTERVAL:P3D
CALSCALE:GREGORIAN
BEGIN:VEVENT
DTSTART:20250129T170000Z
DTEND:20250129T180000Z
X-MICROSOFT-CDO-ALLDAYEVENT:FALSE
SUMMARY:TOC Committee Meeting at Carrollwood Village Park
DESCRIPTION:Join the TOC Special Events Committee at the site of the TOC located at Carrollwood Village Park.  Meet us at the pavilion next to the bandshell (stage).  Bring your lunch if you would like to.
X-ALT-DESC;FMTTYPE=text/html:<!--StartFragment--><span style="font-size:18px\;"><span data-olk-copy-source="MessageBody" style="border-bottom: 1px solid rgb(204\, 204\, 204)\;">Join the TOC Special Events Committee at the site of the TOC located at Carrollwood Village Park.&nbsp\; Meet us at the pavilion next to the bandshell (stage).&nbsp\; Bring your lunch if you would like to.</span></span><!--EndFragment-->
LOCATION:Carrollwood Village Park 4680 W. Village Drive Tampa\, FL 33618
UID:e.9368.790129
SEQUENCE:3
DTSTAMP:20260421T030316Z
URL:http://usecabafl.memberzone.com/events/details/toc-committee-meeting-at-carrollwood-village-park-790129
END:VEVENT

END:VCALENDAR
