BEGIN:VCALENDAR
VERSION:2.0
PRODID:-//ChamberMaster//Event Calendar 2.0//EN
METHOD:PUBLISH
X-PUBLISHED-TTL:P3D
REFRESH-INTERVAL:P3D
CALSCALE:GREGORIAN
BEGIN:VEVENT
DTSTART:20260210T163000Z
DTEND:20260210T180000Z
X-MICROSOFT-CDO-ALLDAYEVENT:FALSE
SUMMARY:Taste of Carrollwood Committee Meeting at Mandola's Italian Kitchen
DESCRIPTION:Join the Taste of Carrollwood Committee!\n\nWe're finalizing the plans for one of CABA's signature community events   Taste of Carrollwood!  Come be part of the excitement at this month's Taste of Carrollwood Committee Meeting. This fun\, interactive committee is a great way to get involved\, connect with fellow members\, and help shape an amazing community experience.\n\nAll interested CABA members are welcome!
X-ALT-DESC;FMTTYPE=text/html:<p data-end="186" data-start="137"><span style="font-size:18px\;"><span style="font-family:arial\;"><strong data-end="184" data-start="137">&#127860\; Join the Taste of Carrollwood Committee!</strong></span></span></p>\n\n<p data-end="283" data-start="188"><span style="font-size:18px\;"><span style="font-family:arial\;">We&rsquo\;re finalizing the plans for one of CABA&rsquo\;s signature community events &mdash\; <strong data-end="281" data-start="256">Taste of Carrollwood!&nbsp\;&nbsp\;</strong></span></span><span style="font-size:18px\;"><span style="font-family:arial\;">Come be part of the excitement at this month&rsquo\;s <strong data-end="374" data-start="332">Taste of Carrollwood Committee Meeting</strong>. This fun\, interactive committee is a great way to get involved\, connect with fellow members\, and help shape an amazing community experience.</span></span></p>\n\n<p data-end="566" data-start="520"><span style="font-size:18px\;"><strong data-end="564" data-start="520">All interested CABA members are welcome!</strong></span></p>\n
LOCATION:Mandola's Italian Kitchen 14703 N. Dale Mabry Hwy. Tampa\, FL 33618
UID:e.9368.790322
SEQUENCE:3
DTSTAMP:20260420T001816Z
URL:http://usecabafl.memberzone.com/events/details/taste-of-carrollwood-committee-meeting-at-mandola-s-italian-kitchen-790322
END:VEVENT

END:VCALENDAR
