BEGIN:VCALENDAR
VERSION:2.0
PRODID:-//ChamberMaster//Event Calendar 2.0//EN
METHOD:PUBLISH
X-PUBLISHED-TTL:P3D
REFRESH-INTERVAL:P3D
CALSCALE:GREGORIAN
BEGIN:VEVENT
DTSTART:20250918T153000Z
DTEND:20250918T170000Z
X-MICROSOFT-CDO-ALLDAYEVENT:FALSE
SUMMARY:Taste of Carrollwood 2026 Committee Meeting at Brass Tap
DESCRIPTION:Come join us as we start planning the 2026 CABA Taste of Carrollwood!  We need your insight and assistance to make it the best community event ever.
X-ALT-DESC;FMTTYPE=text/html:<span style="font-size:18px\;"><span style="font-family:arial\;">Come join us as we start planning the 2026 CABA Taste of Carrollwood!&nbsp\; We need your insight and assistance to make it the best community event ever.</span></span>
LOCATION:The Brass Tap 10047 N. Dale Mabry Hwy. Tampa\, FL 33618
UID:e.9368.790259
SEQUENCE:3
DTSTAMP:20260420T110837Z
URL:http://usecabafl.memberzone.com/events/details/taste-of-carrollwood-2026-committee-meeting-at-brass-tap-790259
END:VEVENT

END:VCALENDAR
