BEGIN:VCALENDAR
VERSION:2.0
PRODID:-//ChamberMaster//Event Calendar 2.0//EN
METHOD:PUBLISH
X-PUBLISHED-TTL:P3D
REFRESH-INTERVAL:P3D
CALSCALE:GREGORIAN
BEGIN:VEVENT
DTSTART:20251115T150000Z
DTEND:20251116T033000Z
X-MICROSOFT-CDO-ALLDAYEVENT:FALSE
SUMMARY:Ribbon Cutting at Peterbrooke Chocolatier
DESCRIPTION:
X-ALT-DESC;FMTTYPE=text/html:
LOCATION:Peterbrooke Chocolatier 11751 N. Dale Mabry Hwy. Tampa\, FL 33618
UID:e.9368.790300
SEQUENCE:3
DTSTAMP:20260420T072714Z
URL:http://usecabafl.memberzone.com/events/details/ribbon-cutting-at-peterbrooke-chocolatier-790300
END:VEVENT

END:VCALENDAR
