BEGIN:VCALENDAR
VERSION:2.0
PRODID:-//ChamberMaster//Event Calendar 2.0//EN
METHOD:PUBLISH
X-PUBLISHED-TTL:P3D
REFRESH-INTERVAL:P3D
CALSCALE:GREGORIAN
BEGIN:VEVENT
DTSTART:20240822T173000Z
DTEND:20240822T183000Z
X-MICROSOFT-CDO-ALLDAYEVENT:FALSE
SUMMARY:Publicity Committee Meeting at PSI TV Network
DESCRIPTION:This will be our first meeting of the publicity committee for the upcoming year. Please join us as we begin sharing ideas and making plans for promoting CABA and our fun events this year!\n\nCABA members that are interested in getting involved are encouraged to attend!
X-ALT-DESC;FMTTYPE=text/html:<span style="font-size:18px\;"><span style="font-family:arial\;"><span style="color: rgb(36\, 36\, 36)\; background-color: rgb(255\, 255\, 255)\;">This will be our first meeting of the publicity committee for the upcoming year. Please join us as we begin sharing ideas and making plans for promoting CABA and our fun events this year!</span></span></span><br />\n<strong style="color: rgb(51\, 51\, 51)\; font-family: sans-serif\, Arial\, Verdana\, &quot\;Trebuchet MS&quot\;\; font-size: 18px\; background-color: rgb(255\, 255\, 255)\;"><em style="font-family: arial\;"><span style="color: rgb(0\, 0\, 205)\;">CABA members that are interested in getting involved are encouraged to attend!</span></em></strong>
LOCATION:PSI TV Network Offices - Conference Room 2801 W. Busch Blvd. #200 Tampa\, FL 33618
UID:e.9368.790057
SEQUENCE:3
DTSTAMP:20260421T160506Z
URL:http://usecabafl.memberzone.com/events/details/publicity-committee-meeting-at-psi-tv-network-790057
END:VEVENT

END:VCALENDAR
