BEGIN:VCALENDAR
VERSION:2.0
PRODID:-//ChamberMaster//Event Calendar 2.0//EN
METHOD:PUBLISH
X-PUBLISHED-TTL:P3D
REFRESH-INTERVAL:P3D
CALSCALE:GREGORIAN
BEGIN:VEVENT
DTSTART:20230124T180000Z
DTEND:20230124T190000Z
X-MICROSOFT-CDO-ALLDAYEVENT:FALSE
SUMMARY:Publicity Committee Meeting at Chicken Salad Chick
DESCRIPTION:Please come join us!  This committee is always looking for CABA members who want to be involved in promoting CABA to the community and other businesses.
X-ALT-DESC;FMTTYPE=text/html:<span style="font-size:14px\;">Please come join us!&nbsp\; This committee is always looking for CABA members who want to be involved in promoting CABA to the community and other businesses.</span>
LOCATION:Chicken Salad Chick 17623 N. Dale Mabry Hwy. Lutz\, FL 33548
UID:e.9368.789860
SEQUENCE:3
DTSTAMP:20260423T075529Z
URL:http://usecabafl.memberzone.com/events/details/publicity-committee-meeting-at-chicken-salad-chick-789860
END:VEVENT

END:VCALENDAR
