BEGIN:VCALENDAR
VERSION:2.0
PRODID:-//ChamberMaster//Event Calendar 2.0//EN
METHOD:PUBLISH
X-PUBLISHED-TTL:P3D
REFRESH-INTERVAL:P3D
CALSCALE:GREGORIAN
BEGIN:VEVENT
DTSTART:20251022T153000Z
DTEND:20251022T170000Z
X-MICROSOFT-CDO-ALLDAYEVENT:FALSE
SUMMARY:Publicity and Taste of Carrollwood Committee Meeting at Piccolo Buco
DESCRIPTION:Come join us!  The publicity and Taste of Carrollwood committees are meeting to align our marketing strategies\, build excitement\, and drive participation. \n\nBy working together\, we can maximize exposure\, engage sponsors and restaurants\, and create a strong community push that ensures next year's event is the most successful ever.
X-ALT-DESC;FMTTYPE=text/html:<span style="font-size:18px\;"><span style="font-family:arial\;">Come join us!&nbsp\; The publicity and Taste of Carrollwood committees are meeting to align our marketing strategies\, build excitement\, and drive participation.&nbsp\;<br />\nBy working together\, we can maximize exposure\, engage sponsors and restaurants\, and create a strong community push that ensures next year&#39\;s event is the most successful ever.</span></span>
LOCATION:Piccolo Buco 14904 N. Dale Mabry Hwy. Tampa\, FL 33618
UID:e.9368.790274
SEQUENCE:3
DTSTAMP:20260420T073157Z
URL:http://usecabafl.memberzone.com/events/details/publicity-and-taste-of-carrollwood-committee-meeting-at-piccolo-buco-790274
END:VEVENT

END:VCALENDAR
