BEGIN:VCALENDAR
VERSION:2.0
PRODID:-//ChamberMaster//Event Calendar 2.0//EN
METHOD:PUBLISH
X-PUBLISHED-TTL:P3D
REFRESH-INTERVAL:P3D
CALSCALE:GREGORIAN
BEGIN:VEVENT
DTSTART:20230928T203000Z
DTEND:20230928T213000Z
X-MICROSOFT-CDO-ALLDAYEVENT:FALSE
SUMMARY:Programs Committee Meeting at Marlow's Tavern
DESCRIPTION:MARK YOUR CALENDARS and prepare to contribute your insights! Being part of the programs committee presents a unique opportunity for you as a valued CABA member to actively engage not only with fellow members during after-5 events and coffees\, but also to play a pivotal role in shaping our event schedule.\n\n \n\nFor those of you who wish to make a direct impact on our CABA community\, this committee offers the perfect platform. It's your chance to be directly involved and visible among CABA members.\n\n \n\nYour participation and contributions are eagerly awaited.
X-ALT-DESC;FMTTYPE=text/html:<p class="x_MsoNormal" style="margin: 0in\; font-size: 11pt\; font-family: Calibri\, sans-serif\; color: rgb(36\, 36\, 36)\;"><span style="font-family:arial\;"><span style="font-size:18px\;">MARK YOUR CALENDARS and prepare to contribute your insights!&nbsp\;Being part of the programs committee presents a unique opportunity for you as a valued CABA member to actively engage not only with fellow members during after-5 events and coffees\, but also to play a pivotal role in shaping our event schedule.</span></span></p>\n\n<p aria-hidden="true" class="x_MsoNormal" style="margin: 0in\; font-size: 11pt\; font-family: Calibri\, sans-serif\; color: rgb(36\, 36\, 36)\;">&nbsp\;</p>\n\n<p class="x_MsoNormal" style="margin: 0in\; font-size: 11pt\; font-family: Calibri\, sans-serif\; color: rgb(36\, 36\, 36)\;"><span style="font-family:arial\;"><span style="font-size:18px\;">For those of you who wish to make a direct impact on our CABA community\, this committee offers the perfect platform. It&#39\;s your chance to be directly involved and visible among CABA members.</span></span></p>\n\n<p aria-hidden="true" class="x_MsoNormal" style="margin: 0in\; font-size: 11pt\; font-family: Calibri\, sans-serif\; color: rgb(36\, 36\, 36)\;">&nbsp\;</p>\n\n<p class="x_MsoNormal" style="margin: 0in\; font-size: 11pt\; font-family: Calibri\, sans-serif\; color: rgb(36\, 36\, 36)\;"><span style="font-family:arial\;"><span style="font-size:18px\;">Your participation and contributions are eagerly awaited.</span></span></p>\n
LOCATION:Marlow's Tavern 13134 N. Dale Mabry Hwy. Tampa\, FL 33618
UID:e.9368.789946
SEQUENCE:3
DTSTAMP:20260422T113232Z
URL:http://usecabafl.memberzone.com/events/details/programs-committee-meeting-at-marlow-s-tavern-789946
END:VEVENT

END:VCALENDAR
