BEGIN:VCALENDAR
VERSION:2.0
PRODID:-//ChamberMaster//Event Calendar 2.0//EN
METHOD:PUBLISH
X-PUBLISHED-TTL:P3D
REFRESH-INTERVAL:P3D
CALSCALE:GREGORIAN
BEGIN:VEVENT
DTSTART:20220118T210000Z
DTEND:20220118T220000Z
X-MICROSOFT-CDO-ALLDAYEVENT:FALSE
SUMMARY:Programs Committee Meeting
DESCRIPTION:
X-ALT-DESC;FMTTYPE=text/html:
LOCATION:Marlow's Tavern 13134 North Dale Mabry Hwy Tampa\, FL 33618
UID:e.9368.789686
SEQUENCE:3
DTSTAMP:20260424T054703Z
URL:http://usecabafl.memberzone.com/events/details/programs-committee-meeting-789686
END:VEVENT

END:VCALENDAR
