BEGIN:VCALENDAR
VERSION:2.0
PRODID:-//ChamberMaster//Event Calendar 2.0//EN
METHOD:PUBLISH
X-PUBLISHED-TTL:P3D
REFRESH-INTERVAL:P3D
CALSCALE:GREGORIAN
BEGIN:VEVENT
DTSTART:20210208T211500Z
DTEND:20210208T223000Z
X-MICROSOFT-CDO-ALLDAYEVENT:FALSE
SUMMARY:Programs Committee Meeting
DESCRIPTION:
X-ALT-DESC;FMTTYPE=text/html:
LOCATION:14308 N Dale Mabry Hwy Tampa\, FL 33618
UID:e.9368.789081
SEQUENCE:3
DTSTAMP:20260425T041325Z
URL:http://usecabafl.memberzone.com/events/details/programs-committee-meeting-02-08-2021-789081
END:VEVENT

END:VCALENDAR
