BEGIN:VCALENDAR
VERSION:2.0
PRODID:-//ChamberMaster//Event Calendar 2.0//EN
METHOD:PUBLISH
X-PUBLISHED-TTL:P3D
REFRESH-INTERVAL:P3D
CALSCALE:GREGORIAN
BEGIN:VEVENT
DTSTART:20250702T131500Z
DTEND:20250702T140000Z
X-MICROSOFT-CDO-ALLDAYEVENT:FALSE
SUMMARY:Power Lunch & Learn Committee Meeting at Lina's Restaurant
DESCRIPTION:Join us for our upcoming committee meeting!  Be sure to bring your business cards as you never know who you will connect with.
X-ALT-DESC;FMTTYPE=text/html:<span style="font-size:18px\;">Join us for our upcoming committee meeting!&nbsp\; Be sure to bring your business cards as you never know who you will connect with.</span>
LOCATION:Lina's Restaurant 14819 N. Dale Mabry Hwy. Tampa\, FL 33618
UID:e.9368.790220
SEQUENCE:3
DTSTAMP:20260420T161046Z
URL:http://usecabafl.memberzone.com/events/details/power-lunch-learn-committee-meeting-at-lina-s-restaurant-790220
END:VEVENT

END:VCALENDAR
