BEGIN:VCALENDAR
VERSION:2.0
PRODID:-//ChamberMaster//Event Calendar 2.0//EN
METHOD:PUBLISH
X-PUBLISHED-TTL:P3D
REFRESH-INTERVAL:P3D
CALSCALE:GREGORIAN
BEGIN:VEVENT
DTSTART:20250723T131500Z
DTEND:20250723T141500Z
X-MICROSOFT-CDO-ALLDAYEVENT:FALSE
SUMMARY:Power Lunch & Learn Committee Meeting at Danny's Coffee & Friends
DESCRIPTION:Join us for our upcoming committee meeting!  We'll be finalizing event details for the July Power Lunch\, welcome our new board liaison\, and continue brainstorming for future event formats.\n\nBe sure to bring your business cards as you never know who you will connect with.
X-ALT-DESC;FMTTYPE=text/html:<span style="font-size:18px\;">Join us for our upcoming committee meeting!&nbsp\; We&#39\;ll be finalizing event details for the July Power Lunch\, welcome our new board liaison\, and continue brainstorming for future event formats.<br />\nBe sure to bring your business cards as you never know who you will connect with.</span>
LOCATION:Danny's Coffee & Friends 6800 N. Dale Mabry Hwy\, #188 Tampa\, FL 33614
UID:e.9368.790227
SEQUENCE:3
DTSTAMP:20260420T161302Z
URL:http://usecabafl.memberzone.com/events/details/power-lunch-learn-committee-meeting-at-danny-s-coffee-friends-790227
END:VEVENT

END:VCALENDAR
