BEGIN:VCALENDAR
VERSION:2.0
PRODID:-//ChamberMaster//Event Calendar 2.0//EN
METHOD:PUBLISH
X-PUBLISHED-TTL:P3D
REFRESH-INTERVAL:P3D
CALSCALE:GREGORIAN
BEGIN:VEVENT
DTSTART:20260305T163000Z
DTEND:20260305T183000Z
X-MICROSOFT-CDO-ALLDAYEVENT:FALSE
SUMMARY:Power Lunch Committee Meeting at Curry Leaves Indian Cuisine
DESCRIPTION:Join the CABA Power Lunch & Learn Committee for our February meeting as we continue building momentum for another strong year of networking and educational programming within CABA. This month\, our focus will be on: Planning the upcoming April Power Lunch and Potential May Lunch & Learn Coordinating venues\, speakers\, marketing\, and event experience Bring your business cards\, ideas\, and collaborative spirit this is a working committee\, but also a great space to connect with fellow members and strengthen professional relationships while shaping two of CABA's flagship events.  Open Networking: 11:30 a.m. Committee Meeting Begins: 12:00 p.m. (promptly) All CABA members are welcome to attend and participate. Let's make this month's events outstanding!
X-ALT-DESC;FMTTYPE=text/html:<span style="font-size:18px\;">Join the CABA Power Lunch &amp\; Learn Committee for our February meeting as we continue building momentum for another strong year of networking and educational programming within CABA. This month\, our focus will be on: Planning the upcoming April Power Lunch and Potential May Lunch &amp\; Learn Coordinating venues\, speakers\, marketing\, and event experience Bring your business cards\, ideas\, and collaborative spirit&mdash\;this is a working committee\, but also a great space to connect with fellow members and strengthen professional relationships while shaping two of CABA&rsquo\;s flagship events.&nbsp\; Open Networking: 11:30 a.m. Committee Meeting Begins: 12:00 p.m. (promptly) All CABA members are welcome to attend and participate. Let&rsquo\;s make this month&rsquo\;s events outstanding!</span>
LOCATION:Curry Leaves Indian Cuisine 204 Westshore Plaza Tampa\, FL 33609
UID:e.9368.790332
SEQUENCE:3
DTSTAMP:20260419T222610Z
URL:http://usecabafl.memberzone.com/events/details/power-lunch-committee-meeting-at-curry-leaves-indian-cuisine-790332
END:VEVENT

END:VCALENDAR
