BEGIN:VCALENDAR
VERSION:2.0
PRODID:-//ChamberMaster//Event Calendar 2.0//EN
METHOD:PUBLISH
X-PUBLISHED-TTL:P3D
REFRESH-INTERVAL:P3D
CALSCALE:GREGORIAN
BEGIN:VEVENT
DTSTART:20220406T210000Z
DTEND:20220406T213000Z
X-MICROSOFT-CDO-ALLDAYEVENT:FALSE
SUMMARY:Power Lunch Committee Meeting
DESCRIPTION:The Power Lunch Committee Meeting at 5:00pm
X-ALT-DESC;FMTTYPE=text/html:<span style="font-size:18px\;"><span style="font-family: Roboto\, sans-serif\;">The&nbsp\;Power Lunch Committee Meeting at 5:00pm</span></span>
LOCATION:10008 N Dale Mabry Hwy Suite 100 Tampa\, FL 33618
UID:e.9368.789746
SEQUENCE:3
DTSTAMP:20260424T012611Z
URL:http://usecabafl.memberzone.com/events/details/power-lunch-committee-meeting-789746
END:VEVENT

END:VCALENDAR
