BEGIN:VCALENDAR
VERSION:2.0
PRODID:-//ChamberMaster//Event Calendar 2.0//EN
METHOD:PUBLISH
X-PUBLISHED-TTL:P3D
REFRESH-INTERVAL:P3D
CALSCALE:GREGORIAN
BEGIN:VEVENT
DTSTART:20220728T153000Z
DTEND:20220728T170000Z
X-MICROSOFT-CDO-ALLDAYEVENT:FALSE
SUMMARY:Power Lunch at Chicken Salad Chick
DESCRIPTION:Come join us for a POWER LUNCH and make connections. This event is for CABA members only and seating is limited so register today at usecaba.com.\n\n\n\nThe price is $20.00 per member and that covers your lunch and a drink (walk-ins will be asked to pay $30).  Be a table sponsor for $45 and you can set up your own table.\n\n\n\nPOWER LUNCHES are a great way to meet other CABA members\, pass referrals\, and build relationships.
X-ALT-DESC;FMTTYPE=text/html:<span style="font-size:18px\;">Come join us for a POWER LUNCH and make connections. This event is for CABA members only and seating is limited so register today at usecaba.com.<br />\n<br />\nThe price is $20.00 per member and that covers your lunch and a drink (walk-ins will be asked to pay $30).&nbsp\; Be a table sponsor for $45 and you can set up your own table.<br />\n<br />\nPOWER LUNCHES are a great way to meet other CABA members\, pass referrals\, and build relationships.</span>
LOCATION:Chicken Salad Chick 17623 Dale Mabry Hwy Lutz\, FL 33548
UID:e.9368.789790
SEQUENCE:3
DTSTAMP:20260423T191124Z
URL:http://usecabafl.memberzone.com/events/details/power-lunch-at-chicken-salad-chick-789790
END:VEVENT

END:VCALENDAR
