BEGIN:VCALENDAR
VERSION:2.0
PRODID:-//ChamberMaster//Event Calendar 2.0//EN
METHOD:PUBLISH
X-PUBLISHED-TTL:P3D
REFRESH-INTERVAL:P3D
CALSCALE:GREGORIAN
BEGIN:VEVENT
DTSTART:20251126T123000Z
DTEND:20251126T140000Z
X-MICROSOFT-CDO-ALLDAYEVENT:FALSE
SUMMARY:NO EVENT TODAY - HAPPY THANKSGIVING CABA!
DESCRIPTION:HAPPY THANKSGIVING CABA!     \n\nTHERE IS NO EVENT SCHEDULED FOR TODAY.  SEE YOU NEXT WEEK.
X-ALT-DESC;FMTTYPE=text/html:<span style="font-size:18px\;">HAPPY THANKSGIVING CABA!&nbsp\; &nbsp\; &nbsp\;<br />\nTHERE IS NO EVENT SCHEDULED FOR TODAY.&nbsp\; SEE YOU NEXT WEEK.</span>
LOCATION:
UID:e.9368.790286
SEQUENCE:3
DTSTAMP:20260420T055042Z
URL:http://usecabafl.memberzone.com/events/details/no-event-today-happy-thanksgiving-caba-790286
END:VEVENT

END:VCALENDAR
