BEGIN:VCALENDAR
VERSION:2.0
PRODID:-//ChamberMaster//Event Calendar 2.0//EN
METHOD:PUBLISH
X-PUBLISHED-TTL:P3D
REFRESH-INTERVAL:P3D
CALSCALE:GREGORIAN
BEGIN:VEVENT
DTSTART:20251231T223000Z
DTEND:20260101T000000Z
X-MICROSOFT-CDO-ALLDAYEVENT:FALSE
SUMMARY:NO EVENT TODAY -- HAPPY NEW YEAR CABA!
DESCRIPTION:HAPPY NEW YEAR CABA!  NO EVENT TODAY.
X-ALT-DESC;FMTTYPE=text/html:HAPPY NEW YEAR CABA!&nbsp\; NO EVENT TODAY.
LOCATION:
UID:e.9368.790307
SEQUENCE:3
DTSTAMP:20260420T040348Z
URL:http://usecabafl.memberzone.com/events/details/no-event-today-happy-new-year-caba-790307
END:VEVENT

END:VCALENDAR
