BEGIN:VCALENDAR
VERSION:2.0
PRODID:-//ChamberMaster//Event Calendar 2.0//EN
METHOD:PUBLISH
X-PUBLISHED-TTL:P3D
REFRESH-INTERVAL:P3D
CALSCALE:GREGORIAN
BEGIN:VEVENT
DTSTART:20230808T123000Z
DTEND:20230808T140000Z
X-MICROSOFT-CDO-ALLDAYEVENT:FALSE
SUMMARY:New Teacher Breakfast - A Welcome to New Teachers in District 1 and 3
DESCRIPTION:Come join CABA member\, Hillsborough County Public Schools with Jessica Vaughn and Nadia Combs as they celebrate the new teachers of District 1 and 3.  CABA is the proud sponsor of this event!  Raffles\, prizes\, and giveaways. Sponsorships available on a first come basis.  Space is limited.
X-ALT-DESC;FMTTYPE=text/html:<span style="font-size:14px\;">Come join CABA member\, Hillsborough County Public Schools with Jessica Vaughn and Nadia Combs as they celebrate the new teachers of District 1 and 3.&nbsp\; CABA is the proud sponsor of this event!&nbsp\;&nbsp\;Raffles\, prizes\, and giveaways. Sponsorships available on a first come basis.&nbsp\; Space is limited.</span>
LOCATION:Ben Hill Middle School 5200 Ehrlich Road Tampa\, FL 33624
UID:e.9368.789917
SEQUENCE:3
DTSTAMP:20260422T144213Z
URL:http://usecabafl.memberzone.com/events/details/new-teacher-breakfast-a-welcome-to-new-teachers-in-district-1-and-3-789917
END:VEVENT

END:VCALENDAR
