BEGIN:VCALENDAR
VERSION:2.0
PRODID:-//ChamberMaster//Event Calendar 2.0//EN
METHOD:PUBLISH
X-PUBLISHED-TTL:P3D
REFRESH-INTERVAL:P3D
CALSCALE:GREGORIAN
BEGIN:VEVENT
DTSTART:20241212T223000Z
DTEND:20241213T000000Z
X-MICROSOFT-CDO-ALLDAYEVENT:FALSE
SUMMARY:New Member Mixer at Black Rock Bar and Grill
DESCRIPTION:CABA New Member Mixer
X-ALT-DESC;FMTTYPE=text/html:<span style="font-size:18px\;">CABA New Member Mixer</span>
LOCATION:Black Rock Bar and Grill 11702 N. Dale Mabry Hwy. Tampa\, FL 33618
UID:e.9368.790094
SEQUENCE:3
DTSTAMP:20260421T035552Z
URL:http://usecabafl.memberzone.com/events/details/new-member-mixer-at-black-rock-bar-and-grill-790094
END:VEVENT

END:VCALENDAR
