BEGIN:VCALENDAR
VERSION:2.0
PRODID:-//ChamberMaster//Event Calendar 2.0//EN
METHOD:PUBLISH
X-PUBLISHED-TTL:P3D
REFRESH-INTERVAL:P3D
CALSCALE:GREGORIAN
BEGIN:VEVENT
DTSTART:20221006T213000Z
DTEND:20221006T230000Z
X-MICROSOFT-CDO-ALLDAYEVENT:FALSE
SUMMARY:New Member Mixer
DESCRIPTION:Please come join us and meet fellow new CABA members!  CABA will provide appetizers and one free beer or wine.  This event is for new CABA members.  We are going to help you maximize your membership benefits\, let you ask questions\, and network with other new members.
X-ALT-DESC;FMTTYPE=text/html:<div><span style="color:#000000\;"><span style="font-size:14px\;"><span style="font-family:arial\;"><span style="font-size:18px\;">Please come join us and meet fellow new CABA members!&nbsp\;&nbsp\;</span></span></span></span><span style="font-size: 18px\; font-family: arial\; color: rgb(0\, 0\, 0)\;">CABA will provide appetizers and one free beer or wine.&nbsp\; This event is for </span><span style="font-size: 18px\; font-family: arial\; color: rgb(0\, 0\, 0)\;">new CABA members.&nbsp\; </span><span style="font-size: 18px\; font-family: arial\; color: rgb(0\, 0\, 0)\;">We are going to help you maximize your membership benefits\, let you ask questions\, and network with other new members.&nbsp\;&nbsp\;</span></div>\n
LOCATION:Black Sheep American Pub 18450 US Highway 41 Lutz\, FL 33556
UID:e.9368.789823
SEQUENCE:3
DTSTAMP:20260423T124422Z
URL:http://usecabafl.memberzone.com/events/details/new-member-mixer-789823
END:VEVENT

END:VCALENDAR
