BEGIN:VCALENDAR
VERSION:2.0
PRODID:-//ChamberMaster//Event Calendar 2.0//EN
METHOD:PUBLISH
X-PUBLISHED-TTL:P3D
REFRESH-INTERVAL:P3D
CALSCALE:GREGORIAN
BEGIN:VEVENT
DTSTART:20260225T060000Z
DTEND:20260225T070000Z
X-MICROSOFT-CDO-ALLDAYEVENT:FALSE
SUMMARY:Membership Committee Meeting at PSI TV Network
DESCRIPTION:All CABA members are warmly invited to attend our upcoming Membership Committee meeting.  This is a great opportunity to get involved\, share your voice\, and help shape the future of our organization.  Whether you're a long-time member or new to CABA\, your input is welcome and appreciated. Join us as we collaborate on initiatives that support growth\, retention\, and active participation across our membership. Let's work together to make CABA even stronger!
X-ALT-DESC;FMTTYPE=text/html:<span style="font-size:18px\;"><span style="font-family:arial\;">All CABA members are warmly invited to attend our upcoming Membership Committee meeting.&nbsp\;&nbsp\;This is a great opportunity to get involved\, share your voice\, and help shape the future of our organization.&nbsp\; Whether you&rsquo\;re a long-time member or new to CABA\, your input is welcome and appreciated. Join us as we collaborate on initiatives that support growth\, retention\, and active participation across our membership. Let&rsquo\;s work together to make CABA even stronger!</span></span>
LOCATION:PSI TV Network 2801 W. Busch Blvd\, Suite 200 Tampa\, FL 33618
UID:e.9368.790330
SEQUENCE:3
DTSTAMP:20260420T001607Z
URL:http://usecabafl.memberzone.com/events/details/membership-committee-meeting-at-psi-tv-network-790330
END:VEVENT

END:VCALENDAR
