BEGIN:VCALENDAR
VERSION:2.0
PRODID:-//ChamberMaster//Event Calendar 2.0//EN
METHOD:PUBLISH
X-PUBLISHED-TTL:P3D
REFRESH-INTERVAL:P3D
CALSCALE:GREGORIAN
BEGIN:VEVENT
DTSTART:20251119T060000Z
DTEND:20251119T070000Z
X-MICROSOFT-CDO-ALLDAYEVENT:FALSE
SUMMARY:Membership Committee Meeting at PSI TV Network
DESCRIPTION:All CABA members are warmly invited to attend our upcoming Membership Committee meeting. We will be focusing on the January 2026 membership drive (CABA Quest). \n\n\n\nThis is a great opportunity to get involved\, share your voice\, and help shape the future of our organization.  Whether you're a long-time member or new to CABA\, your input is welcome and appreciated. Join us as we collaborate on initiatives that support growth\, retention\, and active participation across our membership. Let's work together to make CABA even stronger!
X-ALT-DESC;FMTTYPE=text/html:<span style="font-size:18px\;"><span style="font-family:arial\;">All CABA members are warmly invited to attend our upcoming Membership Committee meeting. We will be focusing on the <strong><span style="color:#FF0000\;">January 2026 membership drive (CABA Quest).&nbsp\;</span></strong><br />\n<br />\nThis is a great opportunity to get involved\, share your voice\, and help shape the future of our organization.&nbsp\; Whether you&rsquo\;re a long-time member or new to CABA\, your input is welcome and appreciated. Join us as we collaborate on initiatives that support growth\, retention\, and active participation across our membership. Let&rsquo\;s work together to make CABA even stronger!</span></span>
LOCATION:PSI TV Network 2801 W. Busch Blvd\, Suite 200 Tampa\, FL 33618
UID:e.9368.790289
SEQUENCE:3
DTSTAMP:20260420T072912Z
URL:http://usecabafl.memberzone.com/events/details/membership-committee-meeting-at-psi-tv-network-790289
END:VEVENT

END:VCALENDAR
