BEGIN:VCALENDAR
VERSION:2.0
PRODID:-//ChamberMaster//Event Calendar 2.0//EN
METHOD:PUBLISH
X-PUBLISHED-TTL:P3D
REFRESH-INTERVAL:P3D
CALSCALE:GREGORIAN
BEGIN:VEVENT
DTSTART:20250709T213000Z
DTEND:20250709T230000Z
X-MICROSOFT-CDO-ALLDAYEVENT:FALSE
SUMMARY:(Members Only) CABA Annual Meeting and Elections After 5
DESCRIPTION:Election results will be announced at this event! Join us at this CABA election After 5 when you will meet the 2025-2026 board of directors and have one last chance to cast your vote before 6:00 p.m.!   This is a member only event.
X-ALT-DESC;FMTTYPE=text/html:<span style="font-size:18px\;">Election results will be announced at this event! Join us at this CABA election After 5 when you will meet the 2025-2026 board of directors and have one last chance to cast your vote before 6:00 p.m.!&nbsp\; &nbsp\;This is a member only event.</span>
LOCATION:1UP Entertainment +Social 11778 N. Dale Mabry Hwy. Tampa\, FL 33618
UID:e.9368.790164
SEQUENCE:3
DTSTAMP:20260420T180637Z
URL:http://usecabafl.memberzone.com/events/details/members-only-caba-annual-meeting-and-elections-after-5-790164
END:VEVENT

END:VCALENDAR
