BEGIN:VCALENDAR
VERSION:2.0
PRODID:-//ChamberMaster//Event Calendar 2.0//EN
METHOD:PUBLISH
X-PUBLISHED-TTL:P3D
REFRESH-INTERVAL:P3D
CALSCALE:GREGORIAN
BEGIN:VEVENT
DTSTART:20210617T153000Z
DTEND:20210617T170000Z
X-MICROSOFT-CDO-ALLDAYEVENT:FALSE
SUMMARY:''Maximize Your Membership'' Benefits Workshop - Station House BBQ
DESCRIPTION:Come learn how others navigate all of CABA's benefits to grow their businesses. Leave with actions that YOU can take to help YOUR business.\n\n\n\nThis workshop is for new and current members. There is no charge for the meeting. Members are welcome to purchase lunch during the event at their own cost.\n\n\n\nIf you have any questions feel free to contact Ambassadors:\n\nGayle Hill - Gayle@UpHillMarketingGroup.com\n\nPhone - 813-892-2545\n\n\n\nLinda Urban - LindaMUrban@gmail.com\n\nPhone - 813-767-3248
X-ALT-DESC;FMTTYPE=text/html:<span style="color:#000000\;"><span style="font-size:14px\;"><span style="font-family:arial\;"><span style="font-size:18px\;">Come learn how others navigate all of CABA&#39\;s benefits to grow their businesses. Leave with actions that <strong>YOU </strong>can take to help <strong>YOUR </strong>business.</span><br />\n<br />\n<span style="font-size:18px\;">This workshop is for new and current members. There is no charge for the meeting. Members are welcome to purchase lunch during the event at their own cost.<br />\n<br />\nIf you have any questions feel free to contact Ambassadors:<br />\nGayle Hill - Gayle@UpHillMarketingGroup.com<br />\nPhone - 813-892-2545<br />\n<br />\nLinda Urban - LindaMUrban@gmail.com<br />\nPhone - 813-767-3248</span></span></span></span><br />\n&nbsp\;
LOCATION:Station House BBQ 16319 N Florida Ave Lutz\, FL 33549
UID:e.9368.789294
SEQUENCE:3
DTSTAMP:20260424T214535Z
URL:http://usecabafl.memberzone.com/events/details/maximize-your-membership-benefits-workshop-station-house-bbq-789294
END:VEVENT

END:VCALENDAR
