BEGIN:VCALENDAR
VERSION:2.0
PRODID:-//ChamberMaster//Event Calendar 2.0//EN
METHOD:PUBLISH
X-PUBLISHED-TTL:P3D
REFRESH-INTERVAL:P3D
CALSCALE:GREGORIAN
BEGIN:VEVENT
DTSTART:20211210T230000Z
DTEND:20211211T010000Z
X-MICROSOFT-CDO-ALLDAYEVENT:FALSE
SUMMARY:Holiday Tree Lighting
DESCRIPTION:Each December\, The Carrollwood Area Business Association collaborates with Hillsborough County Parks & Recreation  & Northdale Civic Association to celebrate the holidays . Join us this December as we light up the night for the holidays. Join us for our annual tree lighting ceremony\, hot cocoa\, movie in the park\, and so much more. The Tree Lighting event includes sponsored ornaments and tables that feature our CABA members who want to connect with our community to grow their businesses and celebrate the holidays.\n\n\n\nVisit the event page
X-ALT-DESC;FMTTYPE=text/html:<span style="font-size:18px\;"><span style="color: rgb(34\, 34\, 34)\; font-family: Arial\, Helvetica\, sans-serif\;">Each December\, The Carrollwood Area Business Association collaborates with Hillsborough County Parks &amp\; Recreation &nbsp\;&amp\; Northdale Civic Association to celebrate the holidays . Join us this December as we light up the night for the holidays. Join us for our annual tree lighting ceremony\, hot cocoa\, movie in the park\, and so much more. The Tree Lighting event includes sponsored ornaments and tables that feature our CABA members who want to connect with our community to grow their businesses and celebrate the holidays.</span></span><br />\n<br />\n<a href="https://usecaba.com/special-events/holiday-tree-lighting/"><span style="color: rgb(255\, 0\, 0)\;"><span style="font-size: 20px\;"><strong>Visit the event page</strong></span></span></a>
LOCATION:
UID:e.9368.789411
SEQUENCE:3
DTSTAMP:20260424T090141Z
URL:http://usecabafl.memberzone.com/events/details/holiday-tree-lighting-789411
END:VEVENT

END:VCALENDAR
