BEGIN:VCALENDAR
VERSION:2.0
PRODID:-//ChamberMaster//Event Calendar 2.0//EN
METHOD:PUBLISH
X-PUBLISHED-TTL:P3D
REFRESH-INTERVAL:P3D
CALSCALE:GREGORIAN
BEGIN:VEVENT
DTSTART:20241121T170000Z
DTEND:20241121T183000Z
X-MICROSOFT-CDO-ALLDAYEVENT:FALSE
SUMMARY:Holiday After 5 Planning Committee Meeting
DESCRIPTION:Come join us as we finalize the plans for the CABA Holiday After 5!
X-ALT-DESC;FMTTYPE=text/html:<span style="font-size:18px\;">Come join us as we finalize the plans for the CABA Holiday After 5!</span>
LOCATION:Grain & Berry 14308 N. Dale Mabry Hwy. Tampa\, FL 33618
UID:e.9368.790091
SEQUENCE:3
DTSTAMP:20260421T055014Z
URL:http://usecabafl.memberzone.com/events/details/holiday-after-5-planning-committee-meeting-790091
END:VEVENT

END:VCALENDAR
