BEGIN:VCALENDAR
VERSION:2.0
PRODID:-//ChamberMaster//Event Calendar 2.0//EN
METHOD:PUBLISH
X-PUBLISHED-TTL:P3D
REFRESH-INTERVAL:P3D
CALSCALE:GREGORIAN
BEGIN:VEVENT
DTSTART:20241015T160000Z
DTEND:20241015T173000Z
X-MICROSOFT-CDO-ALLDAYEVENT:FALSE
SUMMARY:Holiday After 5 Planning Committee Meeting
DESCRIPTION:Committee meeting to discuss plans for our Holiday After 5 scheduled for December 18\, 2024. Please register by Monday\, 10/14/24 so we can prepare for proper seating. CABA MEMBERS THAT ARE INTERESTED IN GETTING INVOLVED ARE ENCOURAGED TO ATTEND!
X-ALT-DESC;FMTTYPE=text/html:<span style="font-size:18px\;"><span style="font-family:arial\;"><span style="color: rgb(36\, 36\, 36)\; background-color: rgb(255\, 255\, 255)\;">Committee meeting to discuss plans for our Holiday After 5 scheduled for December 18\, 2024. Please register by Monday\, 10/14/24 so we can prepare for proper seating. </span><em><span style="color:#0000FF\;"><span style="background-color: rgb(255\, 255\, 255)\;">CABA MEMBERS THAT ARE INTERESTED IN GETTING INVOLVED ARE ENCOURAGED TO ATTEND!</span></span></em></span></span>
LOCATION:Grain & Berry 14308 N. Dale Mabry Hwy. Tampa\, FL 33618
UID:e.9368.790082
SEQUENCE:3
DTSTAMP:20260421T074720Z
URL:http://usecabafl.memberzone.com/events/details/holiday-after-5-planning-committee-meeting-790082
END:VEVENT

END:VCALENDAR
