BEGIN:VCALENDAR
VERSION:2.0
PRODID:-//ChamberMaster//Event Calendar 2.0//EN
METHOD:PUBLISH
X-PUBLISHED-TTL:P3D
REFRESH-INTERVAL:P3D
CALSCALE:GREGORIAN
BEGIN:VEVENT
DTSTART:20240913T163000Z
DTEND:20240913T173000Z
X-MICROSOFT-CDO-ALLDAYEVENT:FALSE
SUMMARY:Holiday After 5 Committee Meeting
DESCRIPTION:Our first meeting to introduce our co-chairs\, meet the committee members\, and to discuss plans for the December 11\, 2024\, Holiday After 5.  Please RSVP via email by Thursday\, 9/11/24 so we can prepare for proper seating at info@advancedoptimalhealthcare.com\n\n\n\nCABA MEMBERS THAT ARE INTERESTED IN GETTING INVOLVED ARE ENCOURAGED TO ATTEND!
X-ALT-DESC;FMTTYPE=text/html:<span style="font-family:arial\;"><span style="font-size:18px\;"><span style="color: rgb(36\, 36\, 36)\; background-color: rgb(255\, 255\, 255)\;">Our first meeting to introduce our co-chairs\, meet the committee members\, and to discuss plans for the December 11\, 2024\, Holiday After 5.&nbsp\; Please RSVP via email by Thursday\, 9/11/24 so we can prepare for proper seating at&nbsp\;</span><em>info@advancedoptimalhealthcare.com</em></span></span><br />\n<br />\n<span style="font-family:arial\;"><span style="font-size:18px\;"><em><span style="color:#0000FF\;"><span style="background-color: rgb(255\, 255\, 255)\;">CABA MEMBERS THAT ARE INTERESTED IN GETTING INVOLVED ARE ENCOURAGED TO ATTEND!</span></span></em></span></span>
LOCATION:Chicken Salad Chic 17623 N. Dale Mabry Hwy. Lutz\, FL 33548
UID:e.9368.790069
SEQUENCE:3
DTSTAMP:20260421T111807Z
URL:http://usecabafl.memberzone.com/events/details/holiday-after-5-committee-meeting-790069
END:VEVENT

END:VCALENDAR
