BEGIN:VCALENDAR
VERSION:2.0
PRODID:-//ChamberMaster//Event Calendar 2.0//EN
METHOD:PUBLISH
X-PUBLISHED-TTL:P3D
REFRESH-INTERVAL:P3D
CALSCALE:GREGORIAN
BEGIN:VEVENT
DTSTART:20240815T193000Z
DTEND:20240815T213000Z
X-MICROSOFT-CDO-ALLDAYEVENT:FALSE
SUMMARY:Golf Committee Meeting at Tampa Wine Room
DESCRIPTION:
X-ALT-DESC;FMTTYPE=text/html:
LOCATION:
UID:e.9368.790056
SEQUENCE:3
DTSTAMP:20260421T141325Z
URL:http://usecabafl.memberzone.com/events/details/golf-committee-meeting-at-tampa-wine-room-790056
END:VEVENT

END:VCALENDAR
