BEGIN:VCALENDAR
VERSION:2.0
PRODID:-//ChamberMaster//Event Calendar 2.0//EN
METHOD:PUBLISH
X-PUBLISHED-TTL:P3D
REFRESH-INTERVAL:P3D
CALSCALE:GREGORIAN
BEGIN:VEVENT
DTSTART:20240801T160000Z
DTEND:20240801T173000Z
X-MICROSOFT-CDO-ALLDAYEVENT:FALSE
SUMMARY:Golf Committee Meeting at PDQ
DESCRIPTION:We will be reviewing the assigned tasks from our previous meeting. Discussing volunteers and what is needed during the event. We will also be finalizing the raffle baskets and marketing campaign to increase attendance/participation this year.\n\n\n\nOpen networking will be from 12:00 p.m. - 12:30 p.m. with the meeting running from 12:30 p.m. - 1:15 p.m.  We are still building the agenda\, so if there is anything you would like to discuss\, please let Lizzie Walker Neal know.  \n\nCABA members that are interested in getting involved are encouraged to attend!
X-ALT-DESC;FMTTYPE=text/html:<span style="font-size:18px\;"><span style="color: rgb(36\, 36\, 36)\; font-family: Calibri\;">We will be reviewing the assigned tasks from our previous meeting. Discussing volunteers and what is needed during the event. We will also be finalizing the raffle baskets and marketing campaign to increase attendance/participation this year.</span></span><br />\n<br />\n<span style="font-family:arial\;"><span style="font-size:18px\;"><span style="color: rgb(36\, 36\, 36)\;">Open networking will be from 12:00 p.m. - 12:30 p.m. with the meeting running from 12:30 p.m. - 1:15 p.m.&nbsp\;&nbsp\;</span><span style="color: rgb(36\, 36\, 36)\; background-color: rgb(255\, 255\, 255)\;">We are still building the agenda\, so if there is anything you would like to discuss\, please let Lizzie Walker Neal know.&nbsp\;&nbsp\;</span></span></span><br />\n<strong style="color: rgb(51\, 51\, 51)\; font-family: sans-serif\, Arial\, Verdana\, &quot\;Trebuchet MS&quot\;\; font-size: 18px\; background-color: rgb(255\, 255\, 255)\;"><em style="font-family: arial\;"><span style="color: rgb(0\, 0\, 205)\;">CABA members that are interested in getting involved are encouraged to attend!</span></em></strong>
LOCATION:PDQ 12650 N. Dale Mabry Hwy. Tampa\, FL 33618
UID:e.9368.790049
SEQUENCE:3
DTSTAMP:20260421T141148Z
URL:http://usecabafl.memberzone.com/events/details/golf-committee-meeting-at-pdq-790049
END:VEVENT

END:VCALENDAR
