BEGIN:VCALENDAR
VERSION:2.0
PRODID:-//ChamberMaster//Event Calendar 2.0//EN
METHOD:PUBLISH
X-PUBLISHED-TTL:P3D
REFRESH-INTERVAL:P3D
CALSCALE:GREGORIAN
BEGIN:VEVENT
DTSTART:20240404T160000Z
DTEND:20240404T173000Z
X-MICROSOFT-CDO-ALLDAYEVENT:FALSE
SUMMARY:Golf Committee Meeting at Black Sheep American Pub
DESCRIPTION:Open networking will be from 12PM-1230PM\, with the meeting running from 1230-115PM. We have an exciting announcement regarding the tournament and will be discussing the production of the raffle\, volunteer needs/time blocks available\, and reviewing this year's sponsorships.
X-ALT-DESC;FMTTYPE=text/html:<span style="color: rgb(36\, 36\, 36)\; font-family: Calibri\; font-size: 15px\;">Open networking will be from 12PM-1230PM\, with the meeting running from 1230-115PM. We have an exciting announcement regarding the tournament and will be discussing the production of the raffle\, volunteer needs/time blocks available\, and reviewing this year&#39\;s sponsorships.</span>
LOCATION:Black Sheep American Pub 18450 US 41 Lutz\, FL 33549
UID:e.9368.790001
SEQUENCE:3
DTSTAMP:20260421T230212Z
URL:http://usecabafl.memberzone.com/events/details/golf-committee-meeting-at-black-sheep-american-pub-790001
END:VEVENT

END:VCALENDAR
