BEGIN:VCALENDAR
VERSION:2.0
PRODID:-//ChamberMaster//Event Calendar 2.0//EN
METHOD:PUBLISH
X-PUBLISHED-TTL:P3D
REFRESH-INTERVAL:P3D
CALSCALE:GREGORIAN
BEGIN:VEVENT
DTSTART:20220504T201500Z
DTEND:20220504T213000Z
X-MICROSOFT-CDO-ALLDAYEVENT:FALSE
SUMMARY:Election Committee Informational Meeting
DESCRIPTION:Any member interested in learning about the Nominating process is welcome to join the Election Committee in the Lobby of Signature Workspace at 4:15pm. \n\n\n\nFor any questions\, contact Debi Ryan at (813) 477-9319.
X-ALT-DESC;FMTTYPE=text/html:<span style="font-size:18px\;"><span style="color: rgb(0\, 0\, 0)\; font-family: Arial\, Helvetica\, sans-serif\;">Any member interested in learning about the Nominating process is welcome to join the Election Committee in the Lobby of Signature Workspace at 4:15pm.&nbsp\;<br />\n<br />\nFor any questions\, contact Debi Ryan at (813) 477-9319.&nbsp\;</span></span>
LOCATION:14502 N. Dale Mabry Highway Suite 200 Tampa. FL 33618
UID:e.9368.789759
SEQUENCE:3
DTSTAMP:20260423T235759Z
URL:http://usecabafl.memberzone.com/events/details/election-committee-informational-meeting-789759
END:VEVENT

END:VCALENDAR
