BEGIN:VCALENDAR
VERSION:2.0
PRODID:-//ChamberMaster//Event Calendar 2.0//EN
METHOD:PUBLISH
X-PUBLISHED-TTL:P3D
REFRESH-INTERVAL:P3D
CALSCALE:GREGORIAN
BEGIN:VEVENT
DTSTART:20250924T203000Z
DTEND:20250924T211500Z
X-MICROSOFT-CDO-ALLDAYEVENT:FALSE
SUMMARY:Community Outreach Committee Meeting at Plate Tapas Grill & Lounge
DESCRIPTION:You are invited to attend the community outreach committee meeting!  Meeting will start promptly at 4:30 p.m.  Please arrive a few minutes early.  Come with ideas on how to connect CABA members to the community!
X-ALT-DESC;FMTTYPE=text/html:<span style="font-size:18px\;"><span style="font-family:arial\;">You are invited to attend the community outreach committee meeting!&nbsp\; Meeting will start promptly at 4:30 p.m.&nbsp\; Please arrive a few minutes early.&nbsp\; Come with ideas on how to connect CABA members to the community!&nbsp\;&nbsp\;</span></span>
LOCATION:Plate Tapas Grill and Lounge 13134 N. Dale Mabry Hwy. Tampa\, FL 33618
UID:e.9368.790269
SEQUENCE:3
DTSTAMP:20260420T110612Z
URL:http://usecabafl.memberzone.com/events/details/community-outreach-committee-meeting-at-plate-tapas-grill-lounge-790269
END:VEVENT

END:VCALENDAR
