BEGIN:VCALENDAR
VERSION:2.0
PRODID:-//ChamberMaster//Event Calendar 2.0//EN
METHOD:PUBLISH
X-PUBLISHED-TTL:P3D
REFRESH-INTERVAL:P3D
CALSCALE:GREGORIAN
BEGIN:VEVENT
DTSTART:20240408T153000Z
DTEND:20240408T163000Z
X-MICROSOFT-CDO-ALLDAYEVENT:FALSE
SUMMARY:Community Outreach Committee Meeting at McAlister's Deli
DESCRIPTION:You are invited to come join us! We will be discussing the upcoming Northdale Family Fun Festival - where we will be a sponsor\, and preplanning other community events we support.\n\nPlease register if you would like to attend so that we have an accurate count for lunch space.
X-ALT-DESC;FMTTYPE=text/html:<span style="font-size:18px\;"><span style="color: rgb(36\, 36\, 36)\;">You are invited to come join us!&nbsp\;</span><span style="font-family:arial\;"><span style="color: rgb(36\, 36\, 36)\; background-color: rgb(255\, 255\, 255)\;">We will be discussing the upcoming Northdale Family Fun Festival - where we will be a sponsor\, and preplanning other community events we support.</span></span><br />\n<span style="color: rgb(36\, 36\, 36)\;">Please register if you would like to attend so that we have an accurate count for lunch space.</span></span>
LOCATION:McAlister's Deli 14444 North Dale Mabry Hwy. Tampa\, FL 33618
UID:e.9368.790002
SEQUENCE:3
DTSTAMP:20260422T024143Z
URL:http://usecabafl.memberzone.com/events/details/community-outreach-committee-meeting-at-mcalister-s-deli-790002
END:VEVENT

END:VCALENDAR
