BEGIN:VCALENDAR
VERSION:2.0
PRODID:-//ChamberMaster//Event Calendar 2.0//EN
METHOD:PUBLISH
X-PUBLISHED-TTL:P3D
REFRESH-INTERVAL:P3D
CALSCALE:GREGORIAN
BEGIN:VEVENT
DTSTART:20211207T170000Z
DTEND:20211207T180000Z
X-MICROSOFT-CDO-ALLDAYEVENT:FALSE
SUMMARY:Community Outreach Committee Meeting
DESCRIPTION:
X-ALT-DESC;FMTTYPE=text/html:
LOCATION:Via Zoom - Register to get the meeting link
UID:e.9368.789354
SEQUENCE:3
DTSTAMP:20260424T074400Z
URL:http://usecabafl.memberzone.com/events/details/community-outreach-committee-meeting-12-07-2021-789354
END:VEVENT

END:VCALENDAR
