BEGIN:VCALENDAR
VERSION:2.0
PRODID:-//ChamberMaster//Event Calendar 2.0//EN
METHOD:PUBLISH
X-PUBLISHED-TTL:P3D
REFRESH-INTERVAL:P3D
CALSCALE:GREGORIAN
BEGIN:VEVENT
DTSTART:20250123T163000Z
DTEND:20250123T181500Z
X-MICROSOFT-CDO-ALLDAYEVENT:FALSE
SUMMARY:CANCELLED - TO BE RESCHEDULED - CABA Lunch-and-Learn
DESCRIPTION:CANCELLED - TO BE RESCHEDULED - CABA is happy to invite its members and guests to this lunch-and-learn networking event.  This month will feature a speaker on the use of search engine optimization ("SEO") and artificial intelligence ("AI") for your business.\n\nMUST REGISTER TO ATTEND\nCOST:  $20/pp
X-ALT-DESC;FMTTYPE=text/html:<h2>CANCELLED - TO BE RESCHEDULED - CABA is happy to invite its&nbsp\;members and guests to this lunch-and-learn networking event.&nbsp\; This month will feature a speaker on the use of search engine optimization (&quot\;SEO&quot\;) and artificial intelligence (&quot\;AI&quot\;) for your business.</h2>\n\n<div style="text-align: center\;"><span style="font-size:18px\;"><u><em><strong>MUST REGISTER TO ATTEND</strong></em></u></span></div>\n<span style="font-size:18px\;">COST:&nbsp\; $20/pp</span>
LOCATION:TO BE RESCHEDULED
UID:e.9368.790113
SEQUENCE:3
DTSTAMP:20260421T022857Z
URL:http://usecabafl.memberzone.com/events/details/cancelled-to-be-rescheduled-caba-lunch-and-learn-790113
END:VEVENT

END:VCALENDAR
