BEGIN:VCALENDAR
VERSION:2.0
PRODID:-//ChamberMaster//Event Calendar 2.0//EN
METHOD:PUBLISH
X-PUBLISHED-TTL:P3D
REFRESH-INTERVAL:P3D
CALSCALE:GREGORIAN
BEGIN:VEVENT
DTSTART:20241016T213000Z
DTEND:20241016T230000Z
X-MICROSOFT-CDO-ALLDAYEVENT:FALSE
SUMMARY:**CANCELLED**To be rescheduled - CABA After 5 at ColoWell America
DESCRIPTION:This event will be rescheduled to a later date because of Hurricane Milton.\n\n\n\nJoin host\, Shiraz Farooq\, MD at this networking which provides a perfect ending to your Wednesday workday when you will meet business owners and CABA members for B2B networking. Refreshments will be provided.\n\n\n\nThank you to our co-hosts\, Dr. Mike Vega (Move Forward Chiropractic)\, Victor Karydis (Abby's Health & Nutrition)\, and Trevor Gunn (J. Galt Financial Suite).
X-ALT-DESC;FMTTYPE=text/html:<span style="color: rgb(51\, 51\, 51)\; font-family: sans-serif\, Arial\, Verdana\, &quot\;Trebuchet MS&quot\;\; font-size: 18px\;">This event will be rescheduled to a later date because of Hurricane Milton.<br />\n<br />\nJoin host\, Shiraz Farooq\, MD at this networking which provides a perfect ending to your Wednesday workday when you will meet business owners and CABA members for B2B networking.</span><font face="arial" style="color: rgb(51\, 51\, 51)\; font-size: 13px\;"><span style="font-size: 18px\; white-space-collapse: preserve\;"> Refreshments will be provided.<br />\n<br />\nThank you to our co-</span></font><span style="white-space-collapse: preserve\; font-size: 18px\; font-family: arial\;">hosts\, Dr. Mike Vega (Move Forward Chiropractic)\, Victor Karydis (Abby&#39\;s Health &amp\; Nutrition)\, and Trevor Gunn (J. Galt Financial Suite).</span>
LOCATION:ColoWell America 2313 W. Violet Street\, Suite A Tampa\, FL 33603
UID:e.9368.790040
SEQUENCE:3
DTSTAMP:20260421T074931Z
URL:http://usecabafl.memberzone.com/events/details/cancelled-to-be-rescheduled-caba-after-5-at-colowell-america-790040
END:VEVENT

END:VCALENDAR
