BEGIN:VCALENDAR
VERSION:2.0
PRODID:-//ChamberMaster//Event Calendar 2.0//EN
METHOD:PUBLISH
X-PUBLISHED-TTL:P3D
REFRESH-INTERVAL:P3D
CALSCALE:GREGORIAN
BEGIN:VEVENT
DTSTART:20240926T194500Z
DTEND:20240926T220000Z
X-MICROSOFT-CDO-ALLDAYEVENT:FALSE
SUMMARY:CANCELLED because of weather! CABA Networking on the 9's at Carrollwood Country Club
DESCRIPTION:THIS EVENT HAS BEEN CANCELLED DUE TO BAD WEATHER.\n\nJoin us for our monthly Networking on the 9's hosted at Carrollwood Country Club. This will be a 9-hole scramble with a shotgun start. The cost is $40 per person +TAX paid directly to the club. Please arrive by 3:30 p.m. so we can ensure that everyone pays and is grouped together. Following the game\, we will have networking at the club!
X-ALT-DESC;FMTTYPE=text/html:<h3 style="color: rgb(51\, 51\, 51)\; font-family: Roboto\, sans-serif\; background-color: rgb(255\, 255\, 255)\;"><span style="font-size:18px\;"><span style="color: rgb(36\, 36\, 36)\; font-family: Calibri\; background-color: rgb(255\, 255\, 255)\;">THIS EVENT HAS BEEN CANCELLED DUE TO BAD WEATHER.<br />\nJoin us for our monthly Networking on the 9&#39\;s hosted at Carrollwood Country Club. This will be a 9-hole scramble with a shotgun start. The cost is $40 per person +TAX paid directly to the club. Please arrive by 3:30 p.m.&nbsp\;so we can ensure that everyone pays and is grouped together. Following the game\,&nbsp\;we will have networking at the club!</span></span></h3>\n
LOCATION:Carrollwood Country Club 13903 Clubhouse Drive Tampa\, FL 33618
UID:e.9368.790067
SEQUENCE:3
DTSTAMP:20260421T112228Z
URL:http://usecabafl.memberzone.com/events/details/cancelled-because-of-weather-caba-networking-on-the-9-s-at-carrollwood-country-club-790067
END:VEVENT

END:VCALENDAR
