BEGIN:VCALENDAR
VERSION:2.0
PRODID:-//ChamberMaster//Event Calendar 2.0//EN
METHOD:PUBLISH
X-PUBLISHED-TTL:P3D
REFRESH-INTERVAL:P3D
CALSCALE:GREGORIAN
BEGIN:VEVENT
DTSTART:20241009T200000Z
DTEND:20241009T223000Z
X-MICROSOFT-CDO-ALLDAYEVENT:FALSE
SUMMARY:CANCELLED because of hurricane! Golf Classic Volunteer and Sponsor Meeting
DESCRIPTION:Join us at the pre-tournament meeting. This will be a great opportunity to ask questions regarding volunteering\, sponsorships\, and more. We will be receiving raffle baskets and constructing the swag bags for our golfers.
X-ALT-DESC;FMTTYPE=text/html:<span style="font-family:arial\;"><span style="font-size:18px\;"><span style="color: rgb(36\, 36\, 36)\; background-color: rgb(255\, 255\, 255)\;">Join us at the pre-tournament meeting. This will be a great opportunity to ask questions regarding volunteering\, sponsorships\, and more. We will be receiving raffle baskets and constructing the swag bags for our golfers.</span></span></span>
LOCATION:Bayfirst Financial 16002 N. Dale Mabry Hwy. Tampa\, FL 33618
UID:e.9368.790085
SEQUENCE:3
DTSTAMP:20260421T093107Z
URL:http://usecabafl.memberzone.com/events/details/cancelled-because-of-hurricane-golf-classic-volunteer-and-sponsor-meeting-790085
END:VEVENT

END:VCALENDAR
