BEGIN:VCALENDAR
VERSION:2.0
PRODID:-//ChamberMaster//Event Calendar 2.0//EN
METHOD:PUBLISH
X-PUBLISHED-TTL:P3D
REFRESH-INTERVAL:P3D
CALSCALE:GREGORIAN
BEGIN:VEVENT
DTSTART:20241009T113000Z
DTEND:20241009T130000Z
X-MICROSOFT-CDO-ALLDAYEVENT:FALSE
SUMMARY:CANCELLED because of hurricane! CABA Coffee at Advanced Optimal Healthcare\, PLLC
DESCRIPTION:Join host\, Anilda Ortiz\, DNP at CABA's coffee networking! CABA members will engage in B2B networking with guests over snacks and coffee.  Guests are welcome to visit a CABA event twice before being asked to join.  Join us and learn why we say\, "CABA is the best business address in Tampa Bay."\n\n\n\nThank you to our cohosts Lizzie Walker Neal of Brightstar Chiropractic\, Lizette Rivera (Roasted Whisk)\, Bethany Brown (The Aesthetics Lounge & Spa Tampa)\, and Jonathan Simkins of Insect IQ.
X-ALT-DESC;FMTTYPE=text/html:<span style="box-sizing: border-box\; color: rgb(51\, 51\, 51)\; white-space-collapse: preserve\; background-color: rgb(255\, 255\, 255)\; font-size: 18px\; font-family: Arial\;">Join host\, Anilda Ortiz\, DNP at CABA&#39\;s coffee networking! </span><span style="box-sizing: border-box\; outline: 0px\; color: rgb(51\, 51\, 51)\; white-space-collapse: preserve\; background-color: rgb(255\, 255\, 255)\; font-size: 18px\; font-family: Arial\;">CABA members will engage in B2B networking with </span><span style="box-sizing: border-box\; color: rgb(51\, 51\, 51)\; white-space-collapse: preserve\; background-color: rgb(255\, 255\, 255)\; font-size: 18px\; font-family: Arial\;">guests over snacks and coffee.&nbsp\; Guests are welcome to visit a CABA event twice before being asked to join.&nbsp\; Join us </span><font face="Arial" style="box-sizing: border-box\; color: rgb(51\, 51\, 51)\; font-size: 16px\; background-color: rgb(255\, 255\, 255)\;"><span style="box-sizing: border-box\; font-size: 18px\; white-space-collapse: preserve\;">and learn why we say\, </span></font><em style="box-sizing: border-box\; color: rgb(51\, 51\, 51)\; white-space-collapse: preserve\; background-color: rgb(255\, 255\, 255)\; font-family: Arial\; font-size: 18px\;">&quot\;CABA is the best business address in Tampa Bay.&quot\;</em><br />\n<br />\n<em style="box-sizing: border-box\; color: rgb(51\, 51\, 51)\; white-space-collapse: preserve\; background-color: rgb(255\, 255\, 255)\; font-family: Arial\; font-size: 18px\;">Thank you to our cohosts Lizzie Walker Neal of <a href="https://business.usecaba.com/list/member/brightstar-chiropractic-23847918">Brightstar Chiropractic</a>\, Lizette Rivera (Roasted Whisk)\, Bethany Brown (The Aesthetics Lounge &amp\; Spa Tampa)\, and Jonathan Simkins of <a href="https://business.usecaba.com/list/member/insect-iq-38901819">Insect IQ</a>.</em>
LOCATION:Advanced Optimal Healthcare 18938 N. Dale Mabry Hwy.\, Suite 101 Lutz\, FL 33548
UID:e.9368.789984
SEQUENCE:3
DTSTAMP:20260421T075050Z
URL:http://usecabafl.memberzone.com/events/details/cancelled-because-of-hurricane-caba-coffee-at-advanced-optimal-healthcare-pllc-789984
END:VEVENT

END:VCALENDAR
