BEGIN:VCALENDAR
VERSION:2.0
PRODID:-//ChamberMaster//Event Calendar 2.0//EN
METHOD:PUBLISH
X-PUBLISHED-TTL:P3D
REFRESH-INTERVAL:P3D
CALSCALE:GREGORIAN
BEGIN:VEVENT
DTSTART:20251211T163000Z
DTEND:20251211T180000Z
X-MICROSOFT-CDO-ALLDAYEVENT:FALSE
SUMMARY:CABA Taste of Carrollwood Meeting at Stonewater Tavern
DESCRIPTION:Come join us as we continue to finalize the details regarding the 2026 Taste of Carrollwood event!  This is a great committee to be part of as you promote your business.
X-ALT-DESC;FMTTYPE=text/html:<span style="font-size:18px\;">Come join us as we continue to finalize the details regarding the 2026 Taste of Carrollwood event!&nbsp\; This is a great committee to be part of as you promote your business.</span>
LOCATION:Stonewater Tavern 3973 Van Dyke Road Lutz\, FL 33558
UID:e.9368.790302
SEQUENCE:3
DTSTAMP:20260420T055329Z
URL:http://usecabafl.memberzone.com/events/details/caba-taste-of-carrollwood-meeting-at-stonewater-tavern-790302
END:VEVENT

END:VCALENDAR
