BEGIN:VCALENDAR
VERSION:2.0
PRODID:-//ChamberMaster//Event Calendar 2.0//EN
METHOD:PUBLISH
X-PUBLISHED-TTL:P3D
REFRESH-INTERVAL:P3D
CALSCALE:GREGORIAN
BEGIN:VEVENT
DTSTART:20260301T160000Z
DTEND:20260301T200000Z
X-MICROSOFT-CDO-ALLDAYEVENT:FALSE
SUMMARY:CABA Taste of Carrollwood 2026 at Carrollwood Village Park
DESCRIPTION:CABA's Taste of Carrollwood\, has attracted thousands of attendees to its annual event\, and typically features 100+ exhibitors (including 30+ restaurants) in an expo environment which includes special offers from local businesses and in-crowd entertainment. CABA's taste event is the event of the year for thousands of Tampa Bay residents. This is a great event for all ages\, so we encourage you to invite your friends and family to join us at this year's event.\n\nYou won't want to miss it!  COME RAIN OR SHINE!\n\n\n	Thousands of attendees\n	100+ Local Businesses and Restaurants\n	Family-Friendly Activities\n	Sponsor Recognitions\n	Extensive Marketing (website\, social media\, and more)\n	Scavenger Hunt for a prize\n	Prizes and Giveaways\n	No refunds or credits\n\n\nNote:  Upon payment and approval of your registration\, sponsors that will be hosting a tent space at the event will be sent a "Sponsor Kit" that will include valuable information and further requirements.\n\nAdmission:  $5/pp (Tickets can be purchased at the event)\n\nParking is free.
X-ALT-DESC;FMTTYPE=text/html:<p style="box-sizing: border-box\; margin: 0px 0px 10px\; color: rgb(85\, 85\, 85)\; font-family: Poppins\, sans-serif\; font-size: 16px\; background-color: rgb(255\, 255\, 255)\;">CABA&#39\;s Taste of Carrollwood\, has attracted thousands of attendees to its annual event\, and typically features 100+ exhibitors (including 30+ restaurants) in an expo environment which includes special offers from local businesses and in-crowd entertainment. CABA&#39\;s taste event is the event of the year for thousands of Tampa Bay residents. This is a great event for all ages\, so we encourage you to invite your friends and family to join us at this year&#39\;s event.</p>\n\n<p style="box-sizing: border-box\; margin: 0px 0px 10px\; color: rgb(85\, 85\, 85)\; font-family: Poppins\, sans-serif\; font-size: 16px\; background-color: rgb(255\, 255\, 255)\;">You won&#39\;t want to miss it!&nbsp\;&nbsp\;COME RAIN OR SHINE!</p>\n\n<ul style="box-sizing: border-box\; margin-top: 0px\; margin-bottom: 10px\; color: rgb(85\, 85\, 85)\; font-family: Poppins\, sans-serif\; font-size: 16px\; background-color: rgb(255\, 255\, 255)\;">\n	<li style="box-sizing: border-box\;">Thousands of attendees</li>\n	<li style="box-sizing: border-box\;">100+ Local Businesses and&nbsp\;Restaurants</li>\n	<li style="box-sizing: border-box\;">Family-Friendly Activities</li>\n	<li style="box-sizing: border-box\;">Sponsor Recognitions</li>\n	<li style="box-sizing: border-box\;">Extensive Marketing (website\, social media\, and more)</li>\n	<li style="box-sizing: border-box\;">Scavenger Hunt for a prize</li>\n	<li style="box-sizing: border-box\;">Prizes and Giveaways</li>\n	<li style="box-sizing: border-box\;"><em><strong>No refunds or credits</strong></em></li>\n</ul>\n\n<p style="box-sizing: border-box\; margin: 0px 0px 10px\; color: rgb(85\, 85\, 85)\; font-family: Poppins\, sans-serif\; font-size: 16px\; background-color: rgb(255\, 255\, 255)\;"><u>Note</u>:&nbsp\; Upon payment and approval of your registration\, sponsors that will be hosting a tent space at the event will be sent a &quot\;Sponsor Kit&quot\; that will include valuable information and further requirements.</p>\n\n<p style="box-sizing: border-box\; margin: 0px 0px 10px\; color: rgb(85\, 85\, 85)\; font-family: Poppins\, sans-serif\; font-size: 16px\; background-color: rgb(255\, 255\, 255)\;">Admission:&nbsp\; $5/pp&nbsp\;(Tickets can be purchased at the event)</p>\n\n<p style="box-sizing: border-box\; margin: 0px 0px 10px\; color: rgb(85\, 85\, 85)\; font-family: Poppins\, sans-serif\; font-size: 16px\; background-color: rgb(255\, 255\, 255)\;">Parking is free.<br />\n&nbsp\;</p>\n
LOCATION:Carrollwood Village Park 4680 W. Village Drive Tampa\, FL 33618
UID:e.9368.790285
SEQUENCE:3
DTSTAMP:20260419T222628Z
URL:http://usecabafl.memberzone.com/events/details/caba-taste-of-carrollwood-2026-at-carrollwood-village-park-790285
END:VEVENT

END:VCALENDAR
