BEGIN:VCALENDAR
VERSION:2.0
PRODID:-//ChamberMaster//Event Calendar 2.0//EN
METHOD:PUBLISH
X-PUBLISHED-TTL:P3D
REFRESH-INTERVAL:P3D
CALSCALE:GREGORIAN
BEGIN:VEVENT
DTSTART:20230301T223000Z
DTEND:20230302T000000Z
X-MICROSOFT-CDO-ALLDAYEVENT:FALSE
SUMMARY:CABA's March Madness After 5 at Marlow's Tavern
DESCRIPTION:It's March madness at our CABA After 5! Join us for the FREE networking which provides a perfect ending to your Wednesday workday when you will meet business owners and CABA members for B2B networking.\n\n\n\nThank you to our co-hosts: North Tampa Bar Association\; John Michael Enterprises\, LLC\; KDC Outfitters\; Telecom National Consulting Group
X-ALT-DESC;FMTTYPE=text/html:<span style="color: rgb(0\, 0\, 0)\; font-family: Arial\; font-size: 18px\; white-space: pre-wrap\;">It&#39\;s March madness at our CABA After 5! Join us for the FREE networking which provides a perfect ending to your Wednesday workday when you will meet business owners and CABA members for B2B networking.</span><br style="color: rgb(0\, 0\, 0)\; font-family: Arial\; font-size: 18px\; white-space: pre-wrap\;" />\n<br style="color: rgb(0\, 0\, 0)\; font-family: Arial\; font-size: 18px\; white-space: pre-wrap\;" />\n<span style="color: rgb(0\, 0\, 0)\; font-family: Arial\; font-size: 18px\; white-space: pre-wrap\;">Thank you to our co-hosts: North Tampa Bar Association\; John Michael Enterprises\, LLC\; KDC Outfitters\; Telecom National Consulting Group</span>
LOCATION:Marlow's Tavern 13134 N. Dale Mabry Highway Tampa\, FL 33618
UID:e.9368.789855
SEQUENCE:3
DTSTAMP:20260423T015914Z
URL:http://usecabafl.memberzone.com/events/details/caba-s-march-madness-after-5-at-marlow-s-tavern-789855
END:VEVENT

END:VCALENDAR
