BEGIN:VCALENDAR
VERSION:2.0
PRODID:-//ChamberMaster//Event Calendar 2.0//EN
METHOD:PUBLISH
X-PUBLISHED-TTL:P3D
REFRESH-INTERVAL:P3D
CALSCALE:GREGORIAN
BEGIN:VEVENT
DTSTART:20240313T213000Z
DTEND:20240313T230000Z
X-MICROSOFT-CDO-ALLDAYEVENT:FALSE
SUMMARY:CABA's Celebration of the Feast of St. Patrick After 5 Lane Family Wellness
DESCRIPTION:Celebrating the Feast of St. Patrick!\nJoin host\, Dr. Tommy Lane at this networking which provides a perfect ending to your Wednesday workday when you will meet business owners and CABA members for B2B networking. Refreshments will be provided.\n\nThank you to our cohosts\, Mike Hancock of Hancock Injury Attorneys\, Jeff Fox of FoxMarketPlace.com\, Rob Cunningham with ADT Security\, and Lee Pierson of The Bank of Tampa.
X-ALT-DESC;FMTTYPE=text/html:<div><span style="font-size: 18px\;">Celebrating the Feast of St. Patrick!</span></div>\n<span style="font-size:18px\;">Join host\, Dr. Tommy Lane at this networking which provides a perfect ending to your Wednesday workday when you will meet business owners and CABA members for B2B networking.</span><font face="arial"><span style="font-size: 18px\; white-space-collapse: preserve\;"> Refreshments will be provided.<br />\nThank you to our cohosts\, Mike Hancock of <a href="https://business.usecaba.com/list/member/hancock-injury-attorneys-7715147">Hancock Injury Attorneys</a>\, Jeff Fox of <a href="https://business.usecaba.com/list/member/foxmarketplace-com-17704588">FoxMarketPlace.com</a>\, Rob Cunningham with <a href="https://business.usecaba.com/list/member/adt-security-6158824">ADT Security</a>\, and Lee Pierson of <a href="https://business.usecaba.com/list/member/the-bank-of-tampa-north-tampa-6159172">The Bank of Tampa</a>.</span></font><br />\n<br />\n&nbsp\;
LOCATION:Lane Family Wellness 1323 W. Fletcher Avenue Tampa\, FL 33612
UID:e.9368.789962
SEQUENCE:3
DTSTAMP:20260422T003736Z
URL:http://usecabafl.memberzone.com/events/details/caba-s-celebration-of-the-feast-of-st-patrick-after-5-lane-family-wellness-789962
END:VEVENT

END:VCALENDAR
