BEGIN:VCALENDAR
VERSION:2.0
PRODID:-//ChamberMaster//Event Calendar 2.0//EN
METHOD:PUBLISH
X-PUBLISHED-TTL:P3D
REFRESH-INTERVAL:P3D
CALSCALE:GREGORIAN
BEGIN:VEVENT
DTSTART:20260819T213000Z
DTEND:20260819T230000Z
X-MICROSOFT-CDO-ALLDAYEVENT:FALSE
SUMMARY:CABA's After 5 by Vanguard Claims Solution-LOCATION TBD
DESCRIPTION:Are you ready to network after work? Join host Andrew Pichardo at this CABA After 5 networking that provides a perfect ending to your Wednesday workday when you will meet business owners and CABA members for B2B networking.
X-ALT-DESC;FMTTYPE=text/html:<span id="docs-internal-guid-6cb829b5-7fff-5d4d-3802-1fd1a312e954"><span style="background-color: transparent\; font-variant-numeric: normal\; font-variant-east-asian: normal\; vertical-align: baseline\;"><font color="#000000" face="Arial"><span style="font-size: 18px\; white-space-collapse: preserve\;">Are you ready to network after work? Join host Andrew Pichardo </span></font></span></span><span style="background-color: transparent\; font-variant-numeric: normal\; font-variant-east-asian: normal\; vertical-align: baseline\;"><font color="#000000" face="Arial"><span style="font-size: 18px\; white-space-collapse: preserve\;">at this CABA After 5 networking that provides a perfect ending to your Wednesday workday when you will meet business owners and CABA members for B2B networking.</span></font></span>
LOCATION:LOCATION TBD
UID:e.9368.790326
SEQUENCE:3
DTSTAMP:20260420T035643Z
URL:http://usecabafl.memberzone.com/events/details/caba-s-after-5-by-vanguard-claims-solution-location-tbd-790326
END:VEVENT

END:VCALENDAR
