BEGIN:VCALENDAR
VERSION:2.0
PRODID:-//ChamberMaster//Event Calendar 2.0//EN
METHOD:PUBLISH
X-PUBLISHED-TTL:P3D
REFRESH-INTERVAL:P3D
CALSCALE:GREGORIAN
BEGIN:VEVENT
DTSTART:20240612T213000Z
DTEND:20240612T230000Z
X-MICROSOFT-CDO-ALLDAYEVENT:FALSE
SUMMARY:CABA's After 5 by Roasted Whisk at 1UP Entertainment + Social
DESCRIPTION:Join host\, Lizette Rivera at this networking which provides a perfect ending to your Wednesday workday when you will meet business owners and CABA members for B2B networking. Refreshments will be provided.\n\nThank you to our cohosts\, Joshua Gaines of LIT Nutrition\, Mica Segui of 1UP Entertainment + Social\, Lizzie Walker Neal of Brightstar Chiropractic\, and Dr. Anilda Ortiz of Advanced Optimal Healthcare.
X-ALT-DESC;FMTTYPE=text/html:<span style="font-size:18px\;">Join host\, Lizette Rivera at this networking which provides a perfect ending to your Wednesday workday when you will meet business owners and CABA members for B2B networking.</span><font face="arial"><span style="font-size: 18px\; white-space-collapse: preserve\;"> Refreshments will be provided.<br />\nThank you to our cohosts\, Joshua Gaines of <a href="https://business.usecaba.com/list/member/lit-nutrition-tampa-tampa-38902108">LIT Nutrition</a>\, Mica Segui of <a href="https://business.usecaba.com/list/member/1up-entertainment-social-38902016">1UP Entertainment + Social</a>\, Lizzie Walker Neal of Brightstar Chiropractic\, and Dr. Anilda Ortiz of <a href="https://business.usecaba.com/list/member/advanced-optimal-healthcare-pllc-38901959">Advanced Optimal Healthcare</a>.</span></font>
LOCATION:LOCATION OF THIS EVENT IS AT: 1UP Entertainment + Social 11778 N. Dale Mabry Hwy. Tampa\, FL 33618
UID:e.9368.789987
SEQUENCE:3
DTSTAMP:20260421T193324Z
URL:http://usecabafl.memberzone.com/events/details/caba-s-after-5-by-roasted-whisk-at-1up-entertainment-social-789987
END:VEVENT

END:VCALENDAR
