BEGIN:VCALENDAR
VERSION:2.0
PRODID:-//ChamberMaster//Event Calendar 2.0//EN
METHOD:PUBLISH
X-PUBLISHED-TTL:P3D
REFRESH-INTERVAL:P3D
CALSCALE:GREGORIAN
BEGIN:VEVENT
DTSTART:20260128T223000Z
DTEND:20260129T000000Z
X-MICROSOFT-CDO-ALLDAYEVENT:FALSE
SUMMARY:CABA's After 5 by Make it Viral Media and Tech at Brooklyn Pizza Pasta & Grill
DESCRIPTION:Are you ready to network after work? Join host Viraj Amarasinghe at this CABA After 5 networking that provides a perfect ending to your Wednesday workday when you will meet business owners and CABA members for B2B networking.\n\nThank you to our co-hosts Moe Hassan (Brooklyn Pizza Pasta & Grill)\, Jason Sulisufay (Suli Law Group)\, Raju Gupta (Signarama Carrollwood)\, and Charissa Insignares (Keller Williams Properties).
X-ALT-DESC;FMTTYPE=text/html:<span id="docs-internal-guid-6cb829b5-7fff-5d4d-3802-1fd1a312e954"><span style="background-color: transparent\; font-variant-numeric: normal\; font-variant-east-asian: normal\; vertical-align: baseline\;"><font color="#000000" face="Arial"><span style="font-size: 18px\; white-space-collapse: preserve\;">Are you ready to network after work? Join host Viraj Amarasinghe </span></font></span></span><span style="background-color: transparent\; font-variant-numeric: normal\; font-variant-east-asian: normal\; vertical-align: baseline\;"><font color="#000000" face="Arial"><span style="font-size: 18px\; white-space-collapse: preserve\;">at this CABA After 5 networking that provides a perfect ending to your Wednesday workday when you will meet business owners and CABA members for B2B networking.<br />\nThank you to our co-hosts Moe Hassan (Brooklyn Pizza Pasta &amp\; Grill)\, Jason Sulisufay (Suli Law Group)\, Raju Gupta (Signarama Carrollwood)\, and Charissa Insignares (Keller Williams Properties).</span></font></span>
LOCATION:LOCATION AT: Brooklyn Pizza Pasta & Grill 3742 W. Lambright Street Tampa\, FL 33614
UID:e.9368.790308
SEQUENCE:3
DTSTAMP:20260420T020950Z
URL:http://usecabafl.memberzone.com/events/details/caba-s-after-5-by-make-it-viral-media-and-tech-at-brooklyn-pizza-pasta-grill-790308
END:VEVENT

END:VCALENDAR
