BEGIN:VCALENDAR
VERSION:2.0
PRODID:-//ChamberMaster//Event Calendar 2.0//EN
METHOD:PUBLISH
X-PUBLISHED-TTL:P3D
REFRESH-INTERVAL:P3D
CALSCALE:GREGORIAN
BEGIN:VEVENT
DTSTART:20230809T213000Z
DTEND:20230809T230000Z
X-MICROSOFT-CDO-ALLDAYEVENT:FALSE
SUMMARY:CABA's After 5 BBQ with Integrity Business Resources at BayFirst Financial Building
DESCRIPTION:NOTE: Integrity Business Resources (David Caraker) will have their event at the BayFirst Financial building. \nThe theme of this After 5 is the end of summer BBQ!  Shorts and flip flops encouraged.  We will have grilled burgers and dogs and all the fixings as well as a variety of liquid refreshments. The party will be inside in the air conditioning!\n\n\n\nEveryone is encouraged to bring a friend. The CABA member with the most non-CABA members guests will receive a special prize.\n\n\nThank you to our host\, David Caraker and our co-host\, Lisa Montero of BayFirst Financial.
X-ALT-DESC;FMTTYPE=text/html:<span style="font-family:arial\;"><span style="font-size: 18px\; white-space: pre-wrap\;">NOTE: Integrity Business Resources (David Caraker) will have their event at the BayFirst Financial building. </span></span>\n<p class="x_MsoNormal" style="margin: 0in\; font-size: 11pt\; font-family: Calibri\, sans-serif\; color: rgb(36\, 36\, 36)\; background-color: rgb(255\, 255\, 255)\;"><span style="font-family:arial\;"><span style="font-size:18px\;">The theme of this After 5 is the end of summer BBQ!&nbsp\;&nbsp\;</span></span><span style="font-family:arial\;"><span style="font-size:18px\;">Shorts and flip flops encouraged.&nbsp\;&nbsp\;</span></span><span style="font-family:arial\;"><span style="font-size:18px\;">We will have grilled burgers and dogs and all the fixings as well as a variety of liquid refreshments.&nbsp\;</span></span><span style="font-family:arial\;"><span style="font-size:18px\;">The party will be inside in the air conditioning!</span></span></p>\n\n<p class="x_MsoNormal" style="margin: 0in\; font-size: 11pt\; font-family: Calibri\, sans-serif\; color: rgb(36\, 36\, 36)\; background-color: rgb(255\, 255\, 255)\;"><br />\n<span style="font-family:arial\;"><span style="font-size:18px\;">Everyone is encouraged to bring a friend. The CABA member with the most non-CABA members&nbsp\;guests will receive a special prize.</span></span></p>\n<br />\n<span style="font-family:arial\;"><span style="font-size:18px\;"><span style="color: rgb(0\, 0\, 0)\; white-space: pre-wrap\;">Thank you to our host\, David Caraker and our co-host\, Lisa Montero of <a href="https://business.usecaba.com/list/member/bayfirst-financial-38901953">BayFirst Financia</a>l.</span></span></span>
LOCATION:BayFirst Financial Building 16002 N. Dale Mabry Hwy. Tampa\, FL 33618
UID:e.9368.789915
SEQUENCE:3
DTSTAMP:20260422T175359Z
URL:http://usecabafl.memberzone.com/events/details/caba-s-after-5-bbq-with-integrity-business-resources-at-bayfirst-financial-building-789915
END:VEVENT

END:VCALENDAR
