BEGIN:VCALENDAR
VERSION:2.0
PRODID:-//ChamberMaster//Event Calendar 2.0//EN
METHOD:PUBLISH
X-PUBLISHED-TTL:P3D
REFRESH-INTERVAL:P3D
CALSCALE:GREGORIAN
BEGIN:VEVENT
DTSTART:20240124T223000Z
DTEND:20240125T000000Z
X-MICROSOFT-CDO-ALLDAYEVENT:FALSE
SUMMARY:CABA's After 5 at Prestige Business Enterprises
DESCRIPTION:Join host\, Marta Harich at this networking which provides a perfect ending to your Wednesday workday when you will meet business owners and CABA members for B2B networking. Refreshments will be provided.\n\n\n\nThank you to our co-host Eliah Ewing at Windward Wealth Management
X-ALT-DESC;FMTTYPE=text/html:<span style="font-size:18px\;">Join host\, Marta Harich at this networking which provides a perfect ending to your Wednesday workday when you will meet business owners and CABA members for B2B networking.</span><font face="arial"><span style="font-size: 18px\; white-space-collapse: preserve\;"> Refreshments will be provided.<br />\n<br />\nThank you to our co-</span></font><span style="color: rgb(0\, 0\, 0)\; white-space-collapse: preserve\; font-size: 18px\; font-family: arial\;">host Eliah Ewing at <a href="https://business.usecaba.com/list/member/windward-wealth-management-ameriprise-financial-22032624">Windward Wealth Management</a></span>
LOCATION:Prestige Business Enterprises 7434 Monika Manor Drive Tampa\, FL 33625
UID:e.9368.789954
SEQUENCE:3
DTSTAMP:20260422T061424Z
URL:http://usecabafl.memberzone.com/events/details/caba-s-after-5-at-prestige-business-enterprises-789954
END:VEVENT

END:VCALENDAR
